1
0
0
-1
628852.896482846
4678899.93925896
