2.5
0
0
-2.5
647771.595441424
4753559.22490517
