2.5
0
0
-2.5
552563.446343009
4742820.59538189
