2.5
0
0
-2.5
620029.435956314
4780761.79864332
