0.25
0
0
-0.25
590120.05982
4752202.05667
