0.25
0
0
-0.25
610375.89092
4761764.18485
