0.25
0
0
-0.25
603618.38522
4759341.19849
