0.25
0
0
-0.25
607124.17885
4752454.74914
