0.25
0
0
-0.25
603758.33666
4750087.40907
