0.25
0
0
-0.25
631062.58905
4745938.97453
