0.25
0
0
-0.25
658137.18905
4753465.35379
