0.25
0
0
-0.25
648084.73604
4746292.8002
