0.25
0
0
-0.25
654893.09148
4746446.16735
