0.25
0
0
-0.25
678421.31385
4758603.20395
