0.25
0
0
-0.25
562998.28089
4742632.11226
