0.25
0
0
-0.25
552852.63396
4733288.0845
