0.25
0
0
-0.25
556262.72226
4733316.55135
