0.25
0
0
-0.25
569832.62668
4740387.69509
