0.25
0
0
-0.25
580079.10733
4738190.36312
