0.25
0
0
-0.25
569902.94982
4733447.53779
