0.25
0
0
-0.25
586981.78748
4731336.05011
