0.25
0
0
-0.25
603967.64732
4736206.99172
