0.25
0
0
-0.25
607412.4289
4733947.53295
