0.25
0
0
-0.25
597247.57528
4729164.19309
