0.25
0
0
-0.25
617721.14916
4729492.72029
