0.25
0
0
-0.25
644729.04346
4743905.34018
