0.25
0
0
-0.25
641370.92042
4741519.54528
