0.25
0
0
-0.25
627872.5519
4734306.53587
