0.25
0
0
-0.25
628001.01411
4727366.59057
