0.25
0
0
-0.25
651539.92017
4744055.36006
