0.25
0
0
-0.25
672088.05821
4739919.02517
