0.25
0
0
-0.25
542722.44932
4717019.67951
