0.25
0
0
-0.25
563251.67211
4714871.85145
