0.25
0
0
-0.25
556432.13495
4712496.71619
