0.25
0
0
-0.25
546186.57578
4710103.34059
