0.25
0
0
-0.25
587214.19034
4712829.70188
