0.25
0
0
-0.25
614537.95703
4715553.85742
