0.25
0
0
-0.25
600895.08926
4713021.67655
