0.25
0
0
-0.25
611192.80677
4710870.00762
