0.25
0
0
-0.25
634918.21063
4722873.10567
