0.25
0
0
-0.25
628214.62556
4715799.90535
