0.25
0
0
-0.25
563419.5326
4696366.17044
