0.25
0
0
-0.25
590724.82896
4705935.5085
