0.25
0
0
-0.25
577055.7839
4703450.48247
