0.25
0
0
-0.25
583905.35935
4703533.04254
