0.25
0
0
-0.25
580507.23647
4701177.74753
