0.25
0
0
-0.25
577106.84804
4698824.14272
