0.25
0
0
-0.25
590845.1363
4696682.74708
