0.25
0
0
-0.25
580640.45886
4689611.93938
