0.25
0
0
-0.25
611266.67958
4706243.43945
